BEGIN:VCALENDAR
VERSION:2.0
PRODID:-//Conscious Leadership Strategies - ECPv6.15.20//NONSGML v1.0//EN
CALSCALE:GREGORIAN
METHOD:PUBLISH
X-ORIGINAL-URL:https://consciousleadershipstrategies.com
X-WR-CALDESC:Events for Conscious Leadership Strategies
REFRESH-INTERVAL;VALUE=DURATION:PT1H
X-Robots-Tag:noindex
X-PUBLISHED-TTL:PT1H
BEGIN:VTIMEZONE
TZID:UTC
BEGIN:STANDARD
TZOFFSETFROM:+0000
TZOFFSETTO:+0000
TZNAME:UTC
DTSTART:20230101T000000
END:STANDARD
END:VTIMEZONE
BEGIN:VEVENT
DTSTART;TZID=UTC:20250130T143000
DTEND;TZID=UTC:20250130T170000
DTSTAMP:20260420T045821
CREATED:20241021T142241Z
LAST-MODIFIED:20241025T155135Z
UID:3598-1738247400-1738256400@consciousleadershipstrategies.com
SUMMARY:Foundations of Leadership: Empowering New Managers
DESCRIPTION:“Ready to step up and lead with confidence but not sure where to start?” Transitioning from an individual contributor to a manager can be challenging\, but with the right tools\, you can become the leader your team needs. \nThis 8-week virtual program is designed to equip new managers with the skills to thrive in their new roles. From mastering communication and feedback to motivating your team and managing performance\, this program will empower you to lead with confidence\, build trust\, and create lasting success as a leader. Get ready to elevate your leadership game and make an immediate impact! \nCourse Breakdown\n\n\n\nSession\nOverview\n\n\n\n\nSession 1: Transitioning from Individual Contributor to Manager\nLearn how to navigate the shift from individual contributor to manager\, establishing authority\, and managing former peers.\n\n\nSession 2: Communication and Feedback Essentials\nMaster clear communication techniques and learn to provide constructive feedback\, manage difficult conversations\, and set expectations effectively.\n\n\nSession 3: Delegation and Trust\nLearn the art of delegating tasks to your team without micromanaging while fostering accountability and trust.\n\n\nSession 4: Time Management and Prioritization\nDiscover time management strategies to juggle personal tasks and manage your team’s work effectively\, ensuring high performance without burnout.\n\n\nSession 5: Managing Team Performance\nGain the skills to set performance goals\, monitor progress\, and address underperformance confidently while keeping your team motivated.\n\n\nSession 6: Motivating and Engaging Your Team\nLearn how to identify individual motivators within your team and leverage them to keep your team engaged and performing at their best.\n\n\nSession 7: Emotional Intelligence and Managing Team Dynamics\nDevelop emotional intelligence to manage team dynamics\, understand interpersonal relationships\, and navigate leadership challenges with empathy.\n\n\nSession 8: Conflict Resolution and Problem Solving\nLearn conflict resolution techniques to address and resolve disputes within your team while developing problem-solving skills to handle workplace challenges effectively.\n\n\n\n\nWho Should Attend:\n\nNew managers or first-time team leaders looking to build strong foundational management skills.\n\n\nKey Benefits:\n\nMaster the transition to management with confidence.\nCommunicate clearly and motivate your team effectively.\nDelegate tasks efficiently and build accountability within your team.\nResolve conflicts confidently and manage team dynamics with emotional intelligence.\nBuild a foundation for long-term success as a team leader.\n\n\nVirtual – 8-session Workshop (2.5 hours per session)\nClasses Starting: \n\n2024: January 10th\, March 14th\nTime: 2:30 – 5:00 PM
URL:https://consciousleadershipstrategies.com/event/foundations-of-leadership-empowering-new-managers/
END:VEVENT
BEGIN:VEVENT
DTSTART;VALUE=DATE:20250108
DTEND;VALUE=DATE:20250111
DTSTAMP:20260420T045821
CREATED:20240815T144853Z
LAST-MODIFIED:20241105T163348Z
UID:3440-1736294400-1736553599@consciousleadershipstrategies.com
SUMMARY:Facilitate with Impact: Master the Art of Speaking and Engagement
DESCRIPTION:Turn your ideas into action\, captivate your audience\, and leave them wanting more! This 2-day program will elevate your skills as both a dynamic speaker and an effective facilitator. Whether delivering keynotes or leading discussions\, you’ll learn how to captivate audiences\, foster meaningful dialogue\, and inspire action. Transform from a presenter to a facilitator who drives results and leaves a lasting impact. \n\n\n\nDay 1\nOverview\n\n\n\n\nSession 1: The Dual Role: Speaker and Facilitator\nUnderstand the balance between delivering content as a speaker and leading engaging group discussions as a facilitator.\n\n\nSession 2: Powerful Openings & Memorable Closings\nMaster techniques to captivate from the start and leave lasting takeaways with compelling openings and conclusions.\n\n\nSession 3: Navigating Group Dynamics\nLearn to confidently manage group dynamics\, handle challenging participants\, and create inclusive environments.\n\n\n\n\n\n\n\n\n\nDay 2\nOverview\n\n\n\n\nSession 4: The Art of Asking & Answering Questions\nUse questions to stimulate conversation\, gather insights\, and enhance audience engagement.\n\n\nSession 5: Active Listening & Responsive Speaking\nDevelop active listening skills to respond effectively during speeches and facilitated sessions.\n\n\nSession 6: Coaching\, Feedback\, & On-the-Spot Speaking\nBuild confidence in delivering real-time coaching and handling impromptu speaking situations with impact.\n\n\nSession 7: Business Relevance & Lasting Impact\nLearn to connect your speaking and facilitation skills to real-world business outcomes and drive measurable results.\n\n\n\n\n\nKey Benefits:\n\n\nGain Confidence: Learn how to balance the roles of speaker and facilitator to lead engaging\, results-driven sessions.\nAdvanced Facilitation Skills: Master group dynamics\, active listening\, and question strategies to foster meaningful dialogue.\nReal-World Application: Learn how to link facilitation and speaking skills to business objectives for a lasting impact.\n\n\n2-Day Workshop: \n9:00 AM – 4:30 PM
URL:https://consciousleadershipstrategies.com/event/present-to-win-mastering-the-art-of-persuasion/
LOCATION:Worcester\, Worcester\, MA\, United States
ORGANIZER;CN="CLS":MAILTO:cynshor@gmail.com
END:VEVENT
BEGIN:VEVENT
DTSTART;TZID=UTC:20241114T080000
DTEND;TZID=UTC:20241114T170000
DTSTAMP:20260420T045821
CREATED:20241114T153546Z
LAST-MODIFIED:20241114T153546Z
UID:3624-1731571200-1731603600@consciousleadershipstrategies.com
SUMMARY:Test
DESCRIPTION:Test
URL:https://consciousleadershipstrategies.com/event/test/
END:VEVENT
END:VCALENDAR